BEGIN:VCALENDAR
VERSION:2.0
PRODID:-//wp-events-plugin.com//7.2.3.1//EN
TZID:America/New_York
X-WR-TIMEZONE:America/New_York
BEGIN:VEVENT
UID:66@emmanuellutheraneastmont.org
DTSTART;TZID=America/New_York:20231109T190000
DTEND;TZID=America/New_York:20231109T203000
DTSTAMP:20231106T151523Z
URL:https://www.emmanuellutheraneastmont.org/events/violins-of-hope-at-st-
 bernadette-monroeville/
SUMMARY:Violins of Hope at St. Bernadette\, Monroeville
DESCRIPTION:As part of the Violins of Hope Exhibit\, there will be a local 
 event at Christ the Divine Shepherd Parish\, St. Bernadette in Monroeville
 .  To learn more about Violins of Hope\, click here: Violins of Hope Pitt
 sburgh\n\nEast Suburbs Remembrance for Kristallnacht\, Thursday\, November
  9\, 7 pm\, Christ the Divine Shepherd Parish\, St. Bernadette\n\nThe Nigh
 t of Broken Glass (Kristallnacht) which occurred in Germany in 1938 was se
 en as the launch of the Holocaust.  In the years that followed\, more tha
 n glass would be shattered:  families torn apart\, businesses ruined\, pe
 ople across nations who would lose their lives simply because they were Je
 ws\, and the downfall of humanity.  Through personal stories\, poetry\, a
 nd song accompanied by violins rescued from the Holocaust\, together we wi
 ll heal brokenness then and now.
CATEGORIES:Community
END:VEVENT
BEGIN:VTIMEZONE
TZID:America/New_York
X-LIC-LOCATION:America/New_York
BEGIN:STANDARD
DTSTART:20231105T010000
TZOFFSETFROM:-0400
TZOFFSETTO:-0500
TZNAME:EST
END:STANDARD
END:VTIMEZONE
END:VCALENDAR