BEGIN:VCALENDAR
VERSION:2.0
PRODID:-//wp-events-plugin.com//7.2.3.1//EN
TZID:America/New_York
X-WR-TIMEZONE:America/New_York
BEGIN:VEVENT
UID:498@emmanuellutheraneastmont.org
DTSTART;TZID=America/New_York:20251018T130000
DTEND;TZID=America/New_York:20251018T150000
DTSTAMP:20251009T141002Z
URL:https://www.emmanuellutheraneastmont.org/events/watch-party-for-bishop
 -stollers-installation/
SUMMARY:Watch party for Bishop Stoller's installation
DESCRIPTION:INSTALLATION SERVICE FOR BISHOP MELISSA LARSEN STOLLER\n\nSatur
 day\, October 18: 1 PM\nBerkeley Hills Lutheran Church\n517 Sangree Road\
 , Pittsburgh\, PA 15237\n(no seats left at Berkeley Hills – see Watch pa
 rty invite below)\n\nHere is the link so you can watch the livestream from
  home:  https://www.youtube.com/live/hKjwBsNu1pw\n\nWATCH PARTY at Emmanu
 el\nDoors open at 12:30 pm\nINSTALLATION BEGINS AT 1 PM\nLower level with 
 large screen projection\n\nWe will provide bulletin materials\, snacks\, a
 nd a large picture of Bishop Stoller.  Get your picture taken with her at
  the watch party!\n\nRSVPs for the watch party by October 11 requested.\ne
 astmontelc@hotmail.com OR 412-824-4525 (office) OR 412-401-5742 (Pastor’
 s cell)
CATEGORIES:Church Activity
END:VEVENT
BEGIN:VTIMEZONE
TZID:America/New_York
X-LIC-LOCATION:America/New_York
BEGIN:DAYLIGHT
DTSTART:20250309T030000
TZOFFSETFROM:-0500
TZOFFSETTO:-0400
TZNAME:EDT
END:DAYLIGHT
END:VTIMEZONE
END:VCALENDAR