BEGIN:VCALENDAR
VERSION:2.0
PRODID:-//wp-events-plugin.com//7.2.3.1//EN
TZID:America/New_York
X-WR-TIMEZONE:America/New_York
BEGIN:VEVENT
UID:465@emmanuellutheraneastmont.org
DTSTART;TZID=America/New_York:20250722T130000
DTEND;TZID=America/New_York:20250722T143000
DTSTAMP:20250529T162929Z
URL:https://www.emmanuellutheraneastmont.org/events/womens-bible-study-2/
SUMMARY:Women's Bible Study
DESCRIPTION:FOR ALL WOMEN – Come to a women’s Bible study on the 4th Tu
 esday of June\, July\, and August (June 24\, July 22\, and August 26).  T
 his Bible study was prepared by the Rev. Dr. Brooke Petersen and is offere
 d through GATHER Magazine on the topic “Where Two or More are Gathered: 
 Flourishing in Relationships.”  Your conveners are Helen Williams\, Boa
 rd Member of WELCA in the SWPA Synod\, and Rev. Linda Theophilus\, Pastor 
 of Emmanuel Lutheran Church.  We will meet from 1:00-2:30 pm in an air-co
 nditioned room at Zion Lutheran church at 11609 Frankstown Road.  For inf
 ormation\, please call Pastor Linda at 412-824-4525.\n
CATEGORIES:Community
END:VEVENT
BEGIN:VTIMEZONE
TZID:America/New_York
X-LIC-LOCATION:America/New_York
BEGIN:DAYLIGHT
DTSTART:20250309T030000
TZOFFSETFROM:-0500
TZOFFSETTO:-0400
TZNAME:EDT
END:DAYLIGHT
END:VTIMEZONE
END:VCALENDAR