BEGIN:VCALENDAR
VERSION:2.0
PRODID:-//wp-events-plugin.com//7.2.3.1//EN
TZID:America/New_York
X-WR-TIMEZONE:America/New_York
BEGIN:VEVENT
UID:2284@emmanuellutheraneastmont.org
DTSTART;TZID=America/New_York:20260127T130000
DTEND;TZID=America/New_York:20260127T143000
DTSTAMP:20260415T184152Z
URL:https://www.emmanuellutheraneastmont.org/events/womens-bible-study-202
 6-01-27/
SUMMARY:Women's Bible Study
DESCRIPTION:BIBLE STUDY FOR ALL WOMEN in Eastern Suburbs\n\nGather with wom
 en from local Lutheran congregations and bring your friends of all faiths.
 \n\nWe meet from 1:00-2:30 pm on the last Tuesday of the month at Zion Lut
 heran Church\, 11609 Frankstown Road. \n\n
CATEGORIES:Community
END:VEVENT
BEGIN:VTIMEZONE
TZID:America/New_York
X-LIC-LOCATION:America/New_York
BEGIN:STANDARD
DTSTART:20251102T010000
TZOFFSETFROM:-0400
TZOFFSETTO:-0500
TZNAME:EST
END:STANDARD
END:VTIMEZONE
END:VCALENDAR