BEGIN:VCALENDAR
VERSION:2.0
PRODID:-//wp-events-plugin.com//7.2.3.1//EN
TZID:America/New_York
X-WR-TIMEZONE:America/New_York
BEGIN:VEVENT
UID:495@emmanuellutheraneastmont.org
DTSTART;TZID=America/New_York:20251118T130000
DTEND;TZID=America/New_York:20251118T143000
DTSTAMP:20251029T152845Z
URL:https://www.emmanuellutheraneastmont.org/events/womens-bible-study-5/
SUMMARY:Fall Bible Study for Women
DESCRIPTION:BIBLE STUDY FOR ALL WOMEN in Eastern Suburbs\n\nGather with wom
 en from local Lutheran congregations and bring your friends of all faiths.
 \n\nWe meet from 1:00-2:30 pm on the last Tuesday of the month at Zion Lut
 heran Church\, 11609 Frankstown Road.\n(Date change to Tuesday\, November 
 18\, due to the Thanksgiving holiday.)\n\n\nThe fall topic is “Money\, S
 tewardship and Generosity” by the Rev. Christa von Zychlin.  On Septemb
 er 30\, we’ll discuss Money – What do we treasure?\; on October 28\, S
 tewardship – How do we tend our treasure?\; and on November 25\, Generos
 ity – A wideness in God’s mercy.\n\n
CATEGORIES:Community
END:VEVENT
BEGIN:VTIMEZONE
TZID:America/New_York
X-LIC-LOCATION:America/New_York
BEGIN:STANDARD
DTSTART:20251102T010000
TZOFFSETFROM:-0400
TZOFFSETTO:-0500
TZNAME:EST
END:STANDARD
END:VTIMEZONE
END:VCALENDAR