BEGIN:VCALENDAR
VERSION:2.0
PRODID:-//wp-events-plugin.com//7.2.3.1//EN
TZID:America/New_York
X-WR-TIMEZONE:America/New_York
BEGIN:VEVENT
UID:507@emmanuellutheraneastmont.org
DTSTART;TZID=America/New_York:20251230T130000
DTEND;TZID=America/New_York:20251230T143000
DTSTAMP:20251119T173922Z
URL:https://www.emmanuellutheraneastmont.org/events/womens-bible-study-at-
 zion/
SUMMARY:Women's Bible Study at Zion
DESCRIPTION:BIBLE STUDY FOR WOMEN\, 1:00-2:30 pm – Tuesday\, December 3
 0\, 2025\n\nZion Lutheran Church\, 11609 Frankstown Road\n\nThe Gather Bi
 ble Study in December is “Practicing Advent Imagination:  Matthew’s D
 reamers and Isaiah’s Visions” by the Rev. Sara Olson-Smith.  We canno
 t build a new future that we cannot imagine.  The long nights of Advent g
 ift us with time to dream.  This study will offer us ways of imagining Go
 d’s future for us and all creation through the dreams of Joseph\, the Th
 ree Wise Men and Isaiah.
CATEGORIES:Community
END:VEVENT
BEGIN:VTIMEZONE
TZID:America/New_York
X-LIC-LOCATION:America/New_York
BEGIN:STANDARD
DTSTART:20251102T010000
TZOFFSETFROM:-0400
TZOFFSETTO:-0500
TZNAME:EST
END:STANDARD
END:VTIMEZONE
END:VCALENDAR