BEGIN:VCALENDAR
VERSION:2.0
PRODID:-//wp-events-plugin.com//7.2.3.1//EN
TZID:America/New_York
X-WR-TIMEZONE:America/New_York
BEGIN:VEVENT
UID:2173@emmanuellutheraneastmont.org
DTSTART;TZID=America/New_York:20261220T100000
DTEND;TZID=America/New_York:20261220T110000
DTSTAMP:20251218T165329Z
URL:https://www.emmanuellutheraneastmont.org/events/worship-2-2025-01-05-2
 025-01-12-2025-01-19-2025-01-26-2025-02-02-2025-02-09-2025-02-16-2025-02-2
 3-2025-03-02-2025-03-09-2025-03-16-2025-03-23-2025-03-30-2025-04-06-2025-0
 4-13-2025-04-20-13-2026-12-20/
SUMMARY:Worship
DESCRIPTION:JOIN US FOR WORSHIP\nWorship and pray every Sunday at 10 a.m.\n
 \nIn person in the sanctuary OR\nBy phone: Call 312-626-6799. When prompte
 d\, enter the meeting ID 923 3815 0341.\nBy computer or smartphone: Go to
  www.zoom.us. Enter Meeting ID 923 3815 0341.\nAt home without technology
 : Read the bulletin. Read the Scripture. Pray. Meditate.
CATEGORIES:Church Activity
END:VEVENT
BEGIN:VTIMEZONE
TZID:America/New_York
X-LIC-LOCATION:America/New_York
BEGIN:STANDARD
DTSTART:20261101T010000
TZOFFSETFROM:-0400
TZOFFSETTO:-0500
TZNAME:EST
END:STANDARD
END:VTIMEZONE
END:VCALENDAR