BEGIN:VCALENDAR
VERSION:2.0
PRODID:-//wp-events-plugin.com//7.2.3.1//EN
TZID:America/New_York
X-WR-TIMEZONE:America/New_York
BEGIN:VEVENT
UID:374@emmanuellutheraneastmont.org
DTSTART;TZID=America/New_York:20250817T103000
DTEND;TZID=America/New_York:20250817T130000
DTSTAMP:20250702T174433Z
URL:https://www.emmanuellutheraneastmont.org/events/worship-2-2025-08-17/
SUMMARY:Worship
DESCRIPTION:JOIN US FOR WORSHIP AT BOYCE PARK TODAY\nZion Lutheran Church h
 as organized a joint outdoor worship service and picnic with local ELCA co
 ngregations for Sunday\, August 17\, at 10:30 am at the Silver Beaver Pavi
 lion at Boyce Park.  GO TO BOYCE PARK FOR WORSHIP\; DO NOT COME TO EMMANU
 EL.  Emmanuel Zoom worshippers may participate via the regular Zoom link 
 for worship.  The picnic is potluck style – bring something to share\; 
 Zion will provide hamburgers\, hot dogs\, and chicken.\n\nBy phone: Call 3
 12-626-6799. When prompted\, enter the meeting ID 923 3815 0341.\nBy compu
 ter or smartphone: Go to www.zoom.us. Enter Meeting ID 923 3815 0341.\nAt
  home without technology: Read the bulletin. Read the Scripture. Pray. Med
 itate.
CATEGORIES:Church Activity
END:VEVENT
BEGIN:VTIMEZONE
TZID:America/New_York
X-LIC-LOCATION:America/New_York
BEGIN:DAYLIGHT
DTSTART:20250309T030000
TZOFFSETFROM:-0500
TZOFFSETTO:-0400
TZNAME:EDT
END:DAYLIGHT
END:VTIMEZONE
END:VCALENDAR