BEGIN:VCALENDAR
VERSION:2.0
PRODID:-//wp-events-plugin.com//7.2.3.1//EN
TZID:America/New_York
X-WR-TIMEZONE:America/New_York
BEGIN:VEVENT
UID:5@emmanuellutheraneastmont.org
DTSTART;TZID=America/New_York:20231029T100000
DTEND;TZID=America/New_York:20231029T111500
DTSTAMP:20231030T143909Z
URL:https://www.emmanuellutheraneastmont.org/events/worship/
SUMMARY:Worship
DESCRIPTION:Worship and pray every Sunday at 10 a.m.\n\nIn person in the sa
 nctuary OR\n\nBy phone: Call 312-626-6799. When prompted\, enter the meeti
 ng ID 923 3815 0341.\n\nBy computer or smartphone: Go to www.zoom.us. Ente
 r Meeting ID 923 3815 0341.\n\nAt home without technology: Read the bullet
 in. Read the Scripture. Pray. Meditate.
CATEGORIES:Church Activity
END:VEVENT
BEGIN:VTIMEZONE
TZID:America/New_York
X-LIC-LOCATION:America/New_York
BEGIN:DAYLIGHT
DTSTART:20230312T030000
TZOFFSETFROM:-0500
TZOFFSETTO:-0400
TZNAME:EDT
END:DAYLIGHT
END:VTIMEZONE
END:VCALENDAR